BEGIN:VCALENDAR
VERSION:2.0
PRODID:-//DEKA láser - ECPv6.14.2//NONSGML v1.0//EN
CALSCALE:GREGORIAN
METHOD:PUBLISH
X-WR-CALNAME:DEKA láser
X-ORIGINAL-URL:https://lasertechib.com
X-WR-CALDESC:Eventos para DEKA láser
REFRESH-INTERVAL;VALUE=DURATION:PT1H
X-Robots-Tag:noindex
X-PUBLISHED-TTL:PT1H
BEGIN:VTIMEZONE
TZID:UTC
BEGIN:STANDARD
TZOFFSETFROM:+0000
TZOFFSETTO:+0000
TZNAME:UTC
DTSTART:20230101T000000
END:STANDARD
END:VTIMEZONE
BEGIN:VEVENT
DTSTART;VALUE=DATE:20230222
DTEND;VALUE=DATE:20230226
DTSTAMP:20260421T090333
CREATED:20221125T090551Z
LAST-MODIFIED:20230304T072712Z
UID:1322-1677106800-1677365999@lasertechib.com
SUMMARY:SEME 2023
DESCRIPTION:
URL:https://lasertechib.com/evento/seme-2023/
LOCATION:Málaga\, España
CATEGORIES:Congresos Dermatológicos
END:VEVENT
END:VCALENDAR