BEGIN:VCALENDAR
VERSION:2.0
PRODID:-//DEKA láser - ECPv6.14.2//NONSGML v1.0//EN
CALSCALE:GREGORIAN
METHOD:PUBLISH
X-WR-CALNAME:DEKA láser
X-ORIGINAL-URL:https://lasertechib.com
X-WR-CALDESC:Eventos para DEKA láser
REFRESH-INTERVAL;VALUE=DURATION:PT1H
X-Robots-Tag:noindex
X-PUBLISHED-TTL:PT1H
BEGIN:VTIMEZONE
TZID:UTC
BEGIN:STANDARD
TZOFFSETFROM:+0000
TZOFFSETTO:+0000
TZNAME:UTC
DTSTART:20230101T000000
END:STANDARD
END:VTIMEZONE
BEGIN:VEVENT
DTSTART;TZID=UTC:20230323T070000
DTEND;TZID=UTC:20230325T160000
DTSTAMP:20260419T232957
CREATED:20230304T072545Z
LAST-MODIFIED:20230304T072721Z
UID:1340-1679554800-1679760000@lasertechib.com
SUMMARY:DERMUS 2023
DESCRIPTION:
URL:https://lasertechib.com/evento/dermus-2023/
LOCATION:Valencia\, España
CATEGORIES:Congresos Dermatológicos
END:VEVENT
END:VCALENDAR